BEGIN:VCALENDAR
VERSION:2.0
PRODID:-//QCA For Boys - ECPv6.15.20//NONSGML v1.0//EN
CALSCALE:GREGORIAN
METHOD:PUBLISH
X-ORIGINAL-URL:https://boys.myqca.org
X-WR-CALDESC:Events for QCA For Boys
REFRESH-INTERVAL;VALUE=DURATION:PT1H
X-Robots-Tag:noindex
X-PUBLISHED-TTL:PT1H
BEGIN:VTIMEZONE
TZID:UTC
BEGIN:STANDARD
TZOFFSETFROM:+0000
TZOFFSETTO:+0000
TZNAME:UTC
DTSTART:20250101T000000
END:STANDARD
END:VTIMEZONE
BEGIN:VEVENT
DTSTART;TZID=UTC:20260211T080000
DTEND;TZID=UTC:20260211T170000
DTSTAMP:20260421T114338
CREATED:20250724T205420Z
LAST-MODIFIED:20250724T205420Z
UID:1171-1770796800-1770829200@boys.myqca.org
SUMMARY:Leadership Day (Elem)
DESCRIPTION:
URL:https://boys.myqca.org/event/leadership-day-elem/
CATEGORIES:Special Event/All Staff in attendance
END:VEVENT
END:VCALENDAR