BEGIN:VCALENDAR
VERSION:2.0
PRODID:-//QCA For Boys - ECPv6.15.20//NONSGML v1.0//EN
CALSCALE:GREGORIAN
METHOD:PUBLISH
X-ORIGINAL-URL:https://boys.myqca.org
X-WR-CALDESC:Events for QCA For Boys
REFRESH-INTERVAL;VALUE=DURATION:PT1H
X-Robots-Tag:noindex
X-PUBLISHED-TTL:PT1H
BEGIN:VTIMEZONE
TZID:UTC
BEGIN:STANDARD
TZOFFSETFROM:+0000
TZOFFSETTO:+0000
TZNAME:UTC
DTSTART:20250101T000000
END:STANDARD
END:VTIMEZONE
BEGIN:VEVENT
DTSTART;TZID=UTC:20260124T080000
DTEND;TZID=UTC:20260124T170000
DTSTAMP:20260421T131646
CREATED:20250724T203509Z
LAST-MODIFIED:20250724T203509Z
UID:1165-1769241600-1769274000@boys.myqca.org
SUMMARY:Coffee with Sr. Fawzia/QCA Science Fair/STEM Fun
DESCRIPTION:
URL:https://boys.myqca.org/event/coffee-with-sr-fawzia-qca-science-fair-stem-fun/
CATEGORIES:Special Event/All Staff in attendance
END:VEVENT
END:VCALENDAR