BEGIN:VCALENDAR
VERSION:2.0
PRODID:-//QCA For Boys - ECPv6.15.20//NONSGML v1.0//EN
CALSCALE:GREGORIAN
METHOD:PUBLISH
X-ORIGINAL-URL:https://boys.myqca.org
X-WR-CALDESC:Events for QCA For Boys
REFRESH-INTERVAL;VALUE=DURATION:PT1H
X-Robots-Tag:noindex
X-PUBLISHED-TTL:PT1H
BEGIN:VTIMEZONE
TZID:UTC
BEGIN:STANDARD
TZOFFSETFROM:+0000
TZOFFSETTO:+0000
TZNAME:UTC
DTSTART:20240101T000000
END:STANDARD
END:VTIMEZONE
BEGIN:VEVENT
DTSTART;TZID=UTC:20251101T080000
DTEND;TZID=UTC:20251101T170000
DTSTAMP:20260421T161401
CREATED:20250723T214140Z
LAST-MODIFIED:20250723T214140Z
UID:1142-1761984000-1762016400@boys.myqca.org
SUMMARY:.EPIC QCA Family Event
DESCRIPTION:
URL:https://boys.myqca.org/event/epic-qca-family-event/
CATEGORIES:Special Event/All Staff in attendance
END:VEVENT
END:VCALENDAR