BEGIN:VCALENDAR
VERSION:2.0
PRODID:-//QCA For Boys - ECPv6.15.20//NONSGML v1.0//EN
CALSCALE:GREGORIAN
METHOD:PUBLISH
X-WR-CALNAME:QCA For Boys
X-ORIGINAL-URL:https://boys.myqca.org
X-WR-CALDESC:Events for QCA For Boys
REFRESH-INTERVAL;VALUE=DURATION:PT1H
X-Robots-Tag:noindex
X-PUBLISHED-TTL:PT1H
BEGIN:VTIMEZONE
TZID:UTC
BEGIN:STANDARD
TZOFFSETFROM:+0000
TZOFFSETTO:+0000
TZNAME:UTC
DTSTART:20240101T000000
END:STANDARD
END:VTIMEZONE
BEGIN:VEVENT
DTSTART;TZID=UTC:20251014T080000
DTEND;TZID=UTC:20251014T170000
DTSTAMP:20260421T174452
CREATED:20250723T212459Z
LAST-MODIFIED:20250723T212856Z
UID:1134-1760428800-1760461200@boys.myqca.org
SUMMARY:Parent-Teacher Conference/Student Holiday
DESCRIPTION:
URL:https://boys.myqca.org/event/parent-teacher-conference-student-holiday-3/
CATEGORIES:Special Event/All Staff in attendance
END:VEVENT
BEGIN:VEVENT
DTSTART;TZID=UTC:20251015T080000
DTEND;TZID=UTC:20251015T170000
DTSTAMP:20260421T174452
CREATED:20250723T212649Z
LAST-MODIFIED:20250723T212649Z
UID:1136-1760515200-1760547600@boys.myqca.org
SUMMARY:PSAT/NMSQT
DESCRIPTION:
URL:https://boys.myqca.org/event/psat-nmsqt/
CATEGORIES:Special Event/All Staff in attendance
END:VEVENT
END:VCALENDAR