BEGIN:VCALENDAR
VERSION:2.0
PRODID:-//QCA For Boys - ECPv6.15.20//NONSGML v1.0//EN
CALSCALE:GREGORIAN
METHOD:PUBLISH
X-WR-CALNAME:QCA For Boys
X-ORIGINAL-URL:https://boys.myqca.org
X-WR-CALDESC:Events for QCA For Boys
REFRESH-INTERVAL;VALUE=DURATION:PT1H
X-Robots-Tag:noindex
X-PUBLISHED-TTL:PT1H
BEGIN:VTIMEZONE
TZID:UTC
BEGIN:STANDARD
TZOFFSETFROM:+0000
TZOFFSETTO:+0000
TZNAME:UTC
DTSTART:20240101T000000
END:STANDARD
END:VTIMEZONE
BEGIN:VEVENT
DTSTART;TZID=UTC:20250504T080000
DTEND;TZID=UTC:20250508T170000
DTSTAMP:20260422T021111
CREATED:20250724T211839Z
LAST-MODIFIED:20250724T211839Z
UID:1189-1746345600-1746723600@boys.myqca.org
SUMMARY:Student Council Campaign and Elections
DESCRIPTION:
URL:https://boys.myqca.org/event/student-council-campaign-and-elections/
CATEGORIES:Special Event/All Staff in attendance
END:VEVENT
END:VCALENDAR